BEGIN:VCALENDAR
VERSION:2.0
PRODID:-//Car Culture NZ - ECPv6.15.17//NONSGML v1.0//EN
CALSCALE:GREGORIAN
METHOD:PUBLISH
X-WR-CALNAME:Car Culture NZ
X-ORIGINAL-URL:https://carculture.nz
X-WR-CALDESC:Events for Car Culture NZ
REFRESH-INTERVAL;VALUE=DURATION:PT1H
X-Robots-Tag:noindex
X-PUBLISHED-TTL:PT1H
BEGIN:VTIMEZONE
TZID:Pacific/Auckland
BEGIN:STANDARD
TZOFFSETFROM:+1300
TZOFFSETTO:+1200
TZNAME:NZST
DTSTART:20180331T140000
END:STANDARD
BEGIN:DAYLIGHT
TZOFFSETFROM:+1200
TZOFFSETTO:+1300
TZNAME:NZDT
DTSTART:20180929T140000
END:DAYLIGHT
BEGIN:STANDARD
TZOFFSETFROM:+1300
TZOFFSETTO:+1200
TZNAME:NZST
DTSTART:20190406T140000
END:STANDARD
BEGIN:DAYLIGHT
TZOFFSETFROM:+1200
TZOFFSETTO:+1300
TZNAME:NZDT
DTSTART:20190928T140000
END:DAYLIGHT
BEGIN:STANDARD
TZOFFSETFROM:+1300
TZOFFSETTO:+1200
TZNAME:NZST
DTSTART:20200404T140000
END:STANDARD
BEGIN:DAYLIGHT
TZOFFSETFROM:+1200
TZOFFSETTO:+1300
TZNAME:NZDT
DTSTART:20200926T140000
END:DAYLIGHT
END:VTIMEZONE
BEGIN:VEVENT
DTSTART;TZID=Pacific/Auckland:20191208T100000
DTEND;TZID=Pacific/Auckland:20191208T130000
DTSTAMP:20260425T034131
CREATED:20191205T061923Z
LAST-MODIFIED:20191205T061923Z
UID:1140-1575799200-1575810000@carculture.nz
SUMMARY:All American Car Show
DESCRIPTION:NSRA Manawatu presents\nAll American Car Show\nAll American Car Day is open to all American classic and vintage cars. Come along for a few hours to catch up with old or new acquaintances. Grab a coffee and sausage sizzle. Take a look at what’s on display\, or bring along your pride and joy 😀 \nFor more information phone email viperclassics@ymail.com or post to this event
URL:https://carculture.nz/event/all-american-car-show/
LOCATION:Railway Land Reserve\, Church Street\, Palmerston North\, Manawatu\, 4410\, New Zealand
CATEGORIES:Car Show
ORGANIZER;CN="Hippy":MAILTO:viperclassics@ymail.com
END:VEVENT
END:VCALENDAR