BEGIN:VCALENDAR
VERSION:2.0
PRODID:-//Car Culture NZ - ECPv6.15.17//NONSGML v1.0//EN
CALSCALE:GREGORIAN
METHOD:PUBLISH
X-WR-CALNAME:Car Culture NZ
X-ORIGINAL-URL:https://carculture.nz
X-WR-CALDESC:Events for Car Culture NZ
REFRESH-INTERVAL;VALUE=DURATION:PT1H
X-Robots-Tag:noindex
X-PUBLISHED-TTL:PT1H
BEGIN:VTIMEZONE
TZID:Pacific/Auckland
BEGIN:STANDARD
TZOFFSETFROM:+1300
TZOFFSETTO:+1200
TZNAME:NZST
DTSTART:20180331T140000
END:STANDARD
BEGIN:DAYLIGHT
TZOFFSETFROM:+1200
TZOFFSETTO:+1300
TZNAME:NZDT
DTSTART:20180929T140000
END:DAYLIGHT
BEGIN:STANDARD
TZOFFSETFROM:+1300
TZOFFSETTO:+1200
TZNAME:NZST
DTSTART:20190406T140000
END:STANDARD
BEGIN:DAYLIGHT
TZOFFSETFROM:+1200
TZOFFSETTO:+1300
TZNAME:NZDT
DTSTART:20190928T140000
END:DAYLIGHT
BEGIN:STANDARD
TZOFFSETFROM:+1300
TZOFFSETTO:+1200
TZNAME:NZST
DTSTART:20200404T140000
END:STANDARD
BEGIN:DAYLIGHT
TZOFFSETFROM:+1200
TZOFFSETTO:+1300
TZNAME:NZDT
DTSTART:20200926T140000
END:DAYLIGHT
END:VTIMEZONE
BEGIN:VEVENT
DTSTART;TZID=Pacific/Auckland:20191207T090000
DTEND;TZID=Pacific/Auckland:20191208T170000
DTSTAMP:20260424T233350
CREATED:20191205T060312Z
LAST-MODIFIED:20191205T060312Z
UID:1131-1575709200-1575824400@carculture.nz
SUMMARY:Full Competition Meeting & Outlaw 71 Class
DESCRIPTION:Masterton Motorplex present\nFull Competition Meeting & Outlaw 71 Class\nFull competition meeting\, all classes. Featuring the second season of the OUTLAW 71 Class! \nFull competition meeting – open to all classes\, on both days. \nSaturday – Full Competition Meeting plus OUTLAW 71 Class\nSunday – Full Competition Meeting plus OUTLAW 71 Class \n\nGate entry: $20 per person per day\, under 14’s free\nGates open: 9am Saturday\, 8am Sunday\nRacing starts: 10am Saturday\, 9am Sunday\nWeather & schedule updates on the day: Check our Facebook page\n\nAre you a competitor? – Click here for entry forms and more details
URL:https://carculture.nz/event/full-competition-meeting-outlaw-71-class/
LOCATION:Masterton Motorplex\, 21 Manaia Road\, Solway\, Homebush\, 5885\, New Zealand
CATEGORIES:Drags
ATTACH;FMTTYPE=image/jpeg:https://carculture.nz/wp-content/uploads/2019/12/67195745_2568154819914710_4598735068532310016_n.jpg
END:VEVENT
END:VCALENDAR