BEGIN:VCALENDAR
VERSION:2.0
PRODID:-//Car Culture NZ - ECPv6.15.17//NONSGML v1.0//EN
CALSCALE:GREGORIAN
METHOD:PUBLISH
X-WR-CALNAME:Car Culture NZ
X-ORIGINAL-URL:https://carculture.nz
X-WR-CALDESC:Events for Car Culture NZ
REFRESH-INTERVAL;VALUE=DURATION:PT1H
X-Robots-Tag:noindex
X-PUBLISHED-TTL:PT1H
BEGIN:VTIMEZONE
TZID:Pacific/Auckland
BEGIN:STANDARD
TZOFFSETFROM:+1300
TZOFFSETTO:+1200
TZNAME:NZST
DTSTART:20190406T140000
END:STANDARD
BEGIN:DAYLIGHT
TZOFFSETFROM:+1200
TZOFFSETTO:+1300
TZNAME:NZDT
DTSTART:20190928T140000
END:DAYLIGHT
BEGIN:STANDARD
TZOFFSETFROM:+1300
TZOFFSETTO:+1200
TZNAME:NZST
DTSTART:20200404T140000
END:STANDARD
BEGIN:DAYLIGHT
TZOFFSETFROM:+1200
TZOFFSETTO:+1300
TZNAME:NZDT
DTSTART:20200926T140000
END:DAYLIGHT
BEGIN:STANDARD
TZOFFSETFROM:+1300
TZOFFSETTO:+1200
TZNAME:NZST
DTSTART:20210403T140000
END:STANDARD
BEGIN:DAYLIGHT
TZOFFSETFROM:+1200
TZOFFSETTO:+1300
TZNAME:NZDT
DTSTART:20210925T140000
END:DAYLIGHT
END:VTIMEZONE
BEGIN:VEVENT
DTSTART;TZID=Pacific/Auckland:20201125T100000
DTEND;TZID=Pacific/Auckland:20201129T170000
DTSTAMP:20260420T010722
CREATED:20190930T083255Z
LAST-MODIFIED:20201124T191332Z
UID:10001109-1606298400-1606669200@carculture.nz
SUMMARY:Repco Beach Hop 20
DESCRIPTION:The Winner of New Zealands Favourite event 2017 is back\nRepco Beach Hop 20\nRock and Roll Festival\nIt’s the 20th anniversary and you could win either: \n\n1965 Ford Mustang\nRetro Caravan\nHarley Davidson Motorcycle\n$10\,000 Cash\n\nCome along to Whangamata to see \nBands * Hot Rods * Classic Cars  & Caravans * Motorbikes * Nostalgia Fair * Hip Idol * Retro Pin Up Show * Nostalgia Surf Fest
URL:https://carculture.nz/event/beach-hop/
LOCATION:Williamson Park\, 418 - 500B Ocean Road\, Whangamata\, Thames-Coromandel\, 3620\, New Zealand
CATEGORIES:Car Show,Swap Meet
ATTACH;FMTTYPE=image/jpeg:https://carculture.nz/wp-content/uploads/2019/09/BeachHop2020_Poster01-cropped.jpg
ORGANIZER;CN="Noddy Watts":MAILTO:beachhop@xtra.co.nz
END:VEVENT
BEGIN:VEVENT
DTSTART;TZID=Pacific/Auckland:20201129T100000
DTEND;TZID=Pacific/Auckland:20201129T140000
DTSTAMP:20260420T010722
CREATED:20191001T010915Z
LAST-MODIFIED:20191001T023825Z
UID:10001125-1606644000-1606658400@carculture.nz
SUMMARY:Caffeine & Gasoline
DESCRIPTION:Welcome to Caffeine & Gasoline! This event is held on the last Sunday of every month at Hampton Downs. It’s a meet up for all types of vehicles\, from bikes to hot rods\, muscle cars to JDM. Free to attend and with plenty of parking\, come along and check out all the cool vehicles or get involved with some of the optional activities!
URL:https://carculture.nz/event/caffeine-gasoline/2020-11-29/
LOCATION:Hampton Downs Motor Sport Park\, 20 Hampton Downs Road\, Te Kauwhata\, Waikato\, 3782\, New Zealand
CATEGORIES:Car Show
ATTACH;FMTTYPE=image/jpeg:https://carculture.nz/wp-content/uploads/2019/10/42848183_558477947943422_848569015226859520_o.jpg
END:VEVENT
END:VCALENDAR