BEGIN:VCALENDAR
VERSION:2.0
PRODID:-//Car Culture NZ - ECPv6.15.17//NONSGML v1.0//EN
CALSCALE:GREGORIAN
METHOD:PUBLISH
X-WR-CALNAME:Car Culture NZ
X-ORIGINAL-URL:https://carculture.nz
X-WR-CALDESC:Events for Car Culture NZ
REFRESH-INTERVAL;VALUE=DURATION:PT1H
X-Robots-Tag:noindex
X-PUBLISHED-TTL:PT1H
BEGIN:VTIMEZONE
TZID:Pacific/Auckland
BEGIN:STANDARD
TZOFFSETFROM:+1300
TZOFFSETTO:+1200
TZNAME:NZST
DTSTART:20190406T140000
END:STANDARD
BEGIN:DAYLIGHT
TZOFFSETFROM:+1200
TZOFFSETTO:+1300
TZNAME:NZDT
DTSTART:20190928T140000
END:DAYLIGHT
BEGIN:STANDARD
TZOFFSETFROM:+1300
TZOFFSETTO:+1200
TZNAME:NZST
DTSTART:20200404T140000
END:STANDARD
BEGIN:DAYLIGHT
TZOFFSETFROM:+1200
TZOFFSETTO:+1300
TZNAME:NZDT
DTSTART:20200926T140000
END:DAYLIGHT
BEGIN:STANDARD
TZOFFSETFROM:+1300
TZOFFSETTO:+1200
TZNAME:NZST
DTSTART:20210403T140000
END:STANDARD
BEGIN:DAYLIGHT
TZOFFSETFROM:+1200
TZOFFSETTO:+1300
TZNAME:NZDT
DTSTART:20210925T140000
END:DAYLIGHT
BEGIN:STANDARD
TZOFFSETFROM:+1300
TZOFFSETTO:+1200
TZNAME:NZST
DTSTART:20220402T140000
END:STANDARD
BEGIN:DAYLIGHT
TZOFFSETFROM:+1200
TZOFFSETTO:+1300
TZNAME:NZDT
DTSTART:20220924T140000
END:DAYLIGHT
BEGIN:STANDARD
TZOFFSETFROM:+1300
TZOFFSETTO:+1200
TZNAME:NZST
DTSTART:20230401T140000
END:STANDARD
BEGIN:DAYLIGHT
TZOFFSETFROM:+1200
TZOFFSETTO:+1300
TZNAME:NZDT
DTSTART:20230923T140000
END:DAYLIGHT
END:VTIMEZONE
BEGIN:VEVENT
DTSTART;TZID=Pacific/Auckland:20221016T083000
DTEND;TZID=Pacific/Auckland:20221016T103000
DTSTAMP:20260420T120236
CREATED:20191212T064631Z
LAST-MODIFIED:20191212T064631Z
UID:10002090-1665909000-1665916200@carculture.nz
SUMMARY:Mid West Rodders Breakfast
DESCRIPTION:Mid West Rodders present \nRodders Breakfast\nBring along your hot rod\, street machine\, muscle car\, or American classic.  Check out the other rides and enjoy a breakfast of hot coffee
URL:https://carculture.nz/event/mid-west-rodders-breakfast/2022-10-16/
LOCATION:Columbus Coffee Mitre 10 Westgate\, Northside Drive\, Westgate\, Auckland\, 0618\, New Zealand
CATEGORIES:Car Show
END:VEVENT
BEGIN:VEVENT
DTSTART;TZID=Pacific/Auckland:20220918T083000
DTEND;TZID=Pacific/Auckland:20220918T103000
DTSTAMP:20260420T120236
CREATED:20191212T064631Z
LAST-MODIFIED:20191212T064631Z
UID:10002089-1663489800-1663497000@carculture.nz
SUMMARY:Mid West Rodders Breakfast
DESCRIPTION:Mid West Rodders present \nRodders Breakfast\nBring along your hot rod\, street machine\, muscle car\, or American classic.  Check out the other rides and enjoy a breakfast of hot coffee
URL:https://carculture.nz/event/mid-west-rodders-breakfast/2022-09-18/
LOCATION:Columbus Coffee Mitre 10 Westgate\, Northside Drive\, Westgate\, Auckland\, 0618\, New Zealand
CATEGORIES:Car Show
END:VEVENT
BEGIN:VEVENT
DTSTART;TZID=Pacific/Auckland:20220821T083000
DTEND;TZID=Pacific/Auckland:20220821T103000
DTSTAMP:20260420T120236
CREATED:20191212T064631Z
LAST-MODIFIED:20191212T064631Z
UID:10002088-1661070600-1661077800@carculture.nz
SUMMARY:Mid West Rodders Breakfast
DESCRIPTION:Mid West Rodders present \nRodders Breakfast\nBring along your hot rod\, street machine\, muscle car\, or American classic.  Check out the other rides and enjoy a breakfast of hot coffee
URL:https://carculture.nz/event/mid-west-rodders-breakfast/2022-08-21/
LOCATION:Columbus Coffee Mitre 10 Westgate\, Northside Drive\, Westgate\, Auckland\, 0618\, New Zealand
CATEGORIES:Car Show
END:VEVENT
BEGIN:VEVENT
DTSTART;TZID=Pacific/Auckland:20220717T083000
DTEND;TZID=Pacific/Auckland:20220717T103000
DTSTAMP:20260420T120236
CREATED:20191212T064631Z
LAST-MODIFIED:20191212T064631Z
UID:10002087-1658046600-1658053800@carculture.nz
SUMMARY:Mid West Rodders Breakfast
DESCRIPTION:Mid West Rodders present \nRodders Breakfast\nBring along your hot rod\, street machine\, muscle car\, or American classic.  Check out the other rides and enjoy a breakfast of hot coffee
URL:https://carculture.nz/event/mid-west-rodders-breakfast/2022-07-17/
LOCATION:Columbus Coffee Mitre 10 Westgate\, Northside Drive\, Westgate\, Auckland\, 0618\, New Zealand
CATEGORIES:Car Show
END:VEVENT
BEGIN:VEVENT
DTSTART;TZID=Pacific/Auckland:20220619T083000
DTEND;TZID=Pacific/Auckland:20220619T103000
DTSTAMP:20260420T120236
CREATED:20191212T064631Z
LAST-MODIFIED:20191212T064631Z
UID:10002086-1655627400-1655634600@carculture.nz
SUMMARY:Mid West Rodders Breakfast
DESCRIPTION:Mid West Rodders present \nRodders Breakfast\nBring along your hot rod\, street machine\, muscle car\, or American classic.  Check out the other rides and enjoy a breakfast of hot coffee
URL:https://carculture.nz/event/mid-west-rodders-breakfast/2022-06-19/
LOCATION:Columbus Coffee Mitre 10 Westgate\, Northside Drive\, Westgate\, Auckland\, 0618\, New Zealand
CATEGORIES:Car Show
END:VEVENT
BEGIN:VEVENT
DTSTART;TZID=Pacific/Auckland:20220515T083000
DTEND;TZID=Pacific/Auckland:20220515T103000
DTSTAMP:20260420T120236
CREATED:20191212T064631Z
LAST-MODIFIED:20191212T064631Z
UID:10002085-1652603400-1652610600@carculture.nz
SUMMARY:Mid West Rodders Breakfast
DESCRIPTION:Mid West Rodders present \nRodders Breakfast\nBring along your hot rod\, street machine\, muscle car\, or American classic.  Check out the other rides and enjoy a breakfast of hot coffee
URL:https://carculture.nz/event/mid-west-rodders-breakfast/2022-05-15/
LOCATION:Columbus Coffee Mitre 10 Westgate\, Northside Drive\, Westgate\, Auckland\, 0618\, New Zealand
CATEGORIES:Car Show
END:VEVENT
BEGIN:VEVENT
DTSTART;TZID=Pacific/Auckland:20220417T083000
DTEND;TZID=Pacific/Auckland:20220417T103000
DTSTAMP:20260420T120236
CREATED:20191212T064631Z
LAST-MODIFIED:20191212T064631Z
UID:10002084-1650184200-1650191400@carculture.nz
SUMMARY:Mid West Rodders Breakfast
DESCRIPTION:Mid West Rodders present \nRodders Breakfast\nBring along your hot rod\, street machine\, muscle car\, or American classic.  Check out the other rides and enjoy a breakfast of hot coffee
URL:https://carculture.nz/event/mid-west-rodders-breakfast/2022-04-17/
LOCATION:Columbus Coffee Mitre 10 Westgate\, Northside Drive\, Westgate\, Auckland\, 0618\, New Zealand
CATEGORIES:Car Show
END:VEVENT
BEGIN:VEVENT
DTSTART;TZID=Pacific/Auckland:20220320T083000
DTEND;TZID=Pacific/Auckland:20220320T103000
DTSTAMP:20260420T120236
CREATED:20191212T064631Z
LAST-MODIFIED:20191212T064631Z
UID:10002083-1647765000-1647772200@carculture.nz
SUMMARY:Mid West Rodders Breakfast
DESCRIPTION:Mid West Rodders present \nRodders Breakfast\nBring along your hot rod\, street machine\, muscle car\, or American classic.  Check out the other rides and enjoy a breakfast of hot coffee
URL:https://carculture.nz/event/mid-west-rodders-breakfast/2022-03-20/
LOCATION:Columbus Coffee Mitre 10 Westgate\, Northside Drive\, Westgate\, Auckland\, 0618\, New Zealand
CATEGORIES:Car Show
END:VEVENT
BEGIN:VEVENT
DTSTART;TZID=Pacific/Auckland:20220220T083000
DTEND;TZID=Pacific/Auckland:20220220T103000
DTSTAMP:20260420T120236
CREATED:20191212T064631Z
LAST-MODIFIED:20191212T064631Z
UID:10002082-1645345800-1645353000@carculture.nz
SUMMARY:Mid West Rodders Breakfast
DESCRIPTION:Mid West Rodders present \nRodders Breakfast\nBring along your hot rod\, street machine\, muscle car\, or American classic.  Check out the other rides and enjoy a breakfast of hot coffee
URL:https://carculture.nz/event/mid-west-rodders-breakfast/2022-02-20/
LOCATION:Columbus Coffee Mitre 10 Westgate\, Northside Drive\, Westgate\, Auckland\, 0618\, New Zealand
CATEGORIES:Car Show
END:VEVENT
BEGIN:VEVENT
DTSTART;TZID=Pacific/Auckland:20220116T083000
DTEND;TZID=Pacific/Auckland:20220116T103000
DTSTAMP:20260420T120236
CREATED:20191212T064631Z
LAST-MODIFIED:20191212T064631Z
UID:10002081-1642321800-1642329000@carculture.nz
SUMMARY:Mid West Rodders Breakfast
DESCRIPTION:Mid West Rodders present \nRodders Breakfast\nBring along your hot rod\, street machine\, muscle car\, or American classic.  Check out the other rides and enjoy a breakfast of hot coffee
URL:https://carculture.nz/event/mid-west-rodders-breakfast/2022-01-16/
LOCATION:Columbus Coffee Mitre 10 Westgate\, Northside Drive\, Westgate\, Auckland\, 0618\, New Zealand
CATEGORIES:Car Show
END:VEVENT
BEGIN:VEVENT
DTSTART;TZID=Pacific/Auckland:20211219T083000
DTEND;TZID=Pacific/Auckland:20211219T103000
DTSTAMP:20260420T120236
CREATED:20191212T064631Z
LAST-MODIFIED:20191212T064631Z
UID:10002080-1639902600-1639909800@carculture.nz
SUMMARY:Mid West Rodders Breakfast
DESCRIPTION:Mid West Rodders present \nRodders Breakfast\nBring along your hot rod\, street machine\, muscle car\, or American classic.  Check out the other rides and enjoy a breakfast of hot coffee
URL:https://carculture.nz/event/mid-west-rodders-breakfast/2021-12-19/
LOCATION:Columbus Coffee Mitre 10 Westgate\, Northside Drive\, Westgate\, Auckland\, 0618\, New Zealand
CATEGORIES:Car Show
END:VEVENT
BEGIN:VEVENT
DTSTART;TZID=Pacific/Auckland:20211121T083000
DTEND;TZID=Pacific/Auckland:20211121T103000
DTSTAMP:20260420T120236
CREATED:20191212T064631Z
LAST-MODIFIED:20191212T064631Z
UID:10002079-1637483400-1637490600@carculture.nz
SUMMARY:Mid West Rodders Breakfast
DESCRIPTION:Mid West Rodders present \nRodders Breakfast\nBring along your hot rod\, street machine\, muscle car\, or American classic.  Check out the other rides and enjoy a breakfast of hot coffee
URL:https://carculture.nz/event/mid-west-rodders-breakfast/2021-11-21/
LOCATION:Columbus Coffee Mitre 10 Westgate\, Northside Drive\, Westgate\, Auckland\, 0618\, New Zealand
CATEGORIES:Car Show
END:VEVENT
BEGIN:VEVENT
DTSTART;TZID=Pacific/Auckland:20211017T083000
DTEND;TZID=Pacific/Auckland:20211017T103000
DTSTAMP:20260420T120236
CREATED:20191212T064631Z
LAST-MODIFIED:20191212T064631Z
UID:10002078-1634459400-1634466600@carculture.nz
SUMMARY:Mid West Rodders Breakfast
DESCRIPTION:Mid West Rodders present \nRodders Breakfast\nBring along your hot rod\, street machine\, muscle car\, or American classic.  Check out the other rides and enjoy a breakfast of hot coffee
URL:https://carculture.nz/event/mid-west-rodders-breakfast/2021-10-17/
LOCATION:Columbus Coffee Mitre 10 Westgate\, Northside Drive\, Westgate\, Auckland\, 0618\, New Zealand
CATEGORIES:Car Show
END:VEVENT
BEGIN:VEVENT
DTSTART;TZID=Pacific/Auckland:20210919T083000
DTEND;TZID=Pacific/Auckland:20210919T103000
DTSTAMP:20260420T120236
CREATED:20191212T064631Z
LAST-MODIFIED:20191212T064631Z
UID:10002077-1632040200-1632047400@carculture.nz
SUMMARY:Mid West Rodders Breakfast
DESCRIPTION:Mid West Rodders present \nRodders Breakfast\nBring along your hot rod\, street machine\, muscle car\, or American classic.  Check out the other rides and enjoy a breakfast of hot coffee
URL:https://carculture.nz/event/mid-west-rodders-breakfast/2021-09-19/
LOCATION:Columbus Coffee Mitre 10 Westgate\, Northside Drive\, Westgate\, Auckland\, 0618\, New Zealand
CATEGORIES:Car Show
END:VEVENT
BEGIN:VEVENT
DTSTART;TZID=Pacific/Auckland:20210815T083000
DTEND;TZID=Pacific/Auckland:20210815T103000
DTSTAMP:20260420T120236
CREATED:20191212T064631Z
LAST-MODIFIED:20191212T064631Z
UID:10002076-1629016200-1629023400@carculture.nz
SUMMARY:Mid West Rodders Breakfast
DESCRIPTION:Mid West Rodders present \nRodders Breakfast\nBring along your hot rod\, street machine\, muscle car\, or American classic.  Check out the other rides and enjoy a breakfast of hot coffee
URL:https://carculture.nz/event/mid-west-rodders-breakfast/2021-08-15/
LOCATION:Columbus Coffee Mitre 10 Westgate\, Northside Drive\, Westgate\, Auckland\, 0618\, New Zealand
CATEGORIES:Car Show
END:VEVENT
BEGIN:VEVENT
DTSTART;TZID=Pacific/Auckland:20210718T083000
DTEND;TZID=Pacific/Auckland:20210718T103000
DTSTAMP:20260420T120236
CREATED:20191212T064631Z
LAST-MODIFIED:20191212T064631Z
UID:10002075-1626597000-1626604200@carculture.nz
SUMMARY:Mid West Rodders Breakfast
DESCRIPTION:Mid West Rodders present \nRodders Breakfast\nBring along your hot rod\, street machine\, muscle car\, or American classic.  Check out the other rides and enjoy a breakfast of hot coffee
URL:https://carculture.nz/event/mid-west-rodders-breakfast/2021-07-18/
LOCATION:Columbus Coffee Mitre 10 Westgate\, Northside Drive\, Westgate\, Auckland\, 0618\, New Zealand
CATEGORIES:Car Show
END:VEVENT
BEGIN:VEVENT
DTSTART;TZID=Pacific/Auckland:20210620T083000
DTEND;TZID=Pacific/Auckland:20210620T103000
DTSTAMP:20260420T120236
CREATED:20191212T064631Z
LAST-MODIFIED:20191212T064631Z
UID:10002074-1624177800-1624185000@carculture.nz
SUMMARY:Mid West Rodders Breakfast
DESCRIPTION:Mid West Rodders present \nRodders Breakfast\nBring along your hot rod\, street machine\, muscle car\, or American classic.  Check out the other rides and enjoy a breakfast of hot coffee
URL:https://carculture.nz/event/mid-west-rodders-breakfast/2021-06-20/
LOCATION:Columbus Coffee Mitre 10 Westgate\, Northside Drive\, Westgate\, Auckland\, 0618\, New Zealand
CATEGORIES:Car Show
END:VEVENT
BEGIN:VEVENT
DTSTART;TZID=Pacific/Auckland:20210516T083000
DTEND;TZID=Pacific/Auckland:20210516T103000
DTSTAMP:20260420T120236
CREATED:20191212T064631Z
LAST-MODIFIED:20191212T064631Z
UID:10002073-1621153800-1621161000@carculture.nz
SUMMARY:Mid West Rodders Breakfast
DESCRIPTION:Mid West Rodders present \nRodders Breakfast\nBring along your hot rod\, street machine\, muscle car\, or American classic.  Check out the other rides and enjoy a breakfast of hot coffee
URL:https://carculture.nz/event/mid-west-rodders-breakfast/2021-05-16/
LOCATION:Columbus Coffee Mitre 10 Westgate\, Northside Drive\, Westgate\, Auckland\, 0618\, New Zealand
CATEGORIES:Car Show
END:VEVENT
BEGIN:VEVENT
DTSTART;TZID=Pacific/Auckland:20210418T083000
DTEND;TZID=Pacific/Auckland:20210418T103000
DTSTAMP:20260420T120236
CREATED:20191212T064631Z
LAST-MODIFIED:20191212T064631Z
UID:10002072-1618734600-1618741800@carculture.nz
SUMMARY:Mid West Rodders Breakfast
DESCRIPTION:Mid West Rodders present \nRodders Breakfast\nBring along your hot rod\, street machine\, muscle car\, or American classic.  Check out the other rides and enjoy a breakfast of hot coffee
URL:https://carculture.nz/event/mid-west-rodders-breakfast/2021-04-18/
LOCATION:Columbus Coffee Mitre 10 Westgate\, Northside Drive\, Westgate\, Auckland\, 0618\, New Zealand
CATEGORIES:Car Show
END:VEVENT
BEGIN:VEVENT
DTSTART;TZID=Pacific/Auckland:20210321T083000
DTEND;TZID=Pacific/Auckland:20210321T103000
DTSTAMP:20260420T120236
CREATED:20191212T064631Z
LAST-MODIFIED:20191212T064631Z
UID:10002071-1616315400-1616322600@carculture.nz
SUMMARY:Mid West Rodders Breakfast
DESCRIPTION:Mid West Rodders present \nRodders Breakfast\nBring along your hot rod\, street machine\, muscle car\, or American classic.  Check out the other rides and enjoy a breakfast of hot coffee
URL:https://carculture.nz/event/mid-west-rodders-breakfast/2021-03-21/
LOCATION:Columbus Coffee Mitre 10 Westgate\, Northside Drive\, Westgate\, Auckland\, 0618\, New Zealand
CATEGORIES:Car Show
END:VEVENT
BEGIN:VEVENT
DTSTART;TZID=Pacific/Auckland:20210221T083000
DTEND;TZID=Pacific/Auckland:20210221T103000
DTSTAMP:20260420T120236
CREATED:20191212T064631Z
LAST-MODIFIED:20191212T064631Z
UID:10002070-1613896200-1613903400@carculture.nz
SUMMARY:Mid West Rodders Breakfast
DESCRIPTION:Mid West Rodders present \nRodders Breakfast\nBring along your hot rod\, street machine\, muscle car\, or American classic.  Check out the other rides and enjoy a breakfast of hot coffee
URL:https://carculture.nz/event/mid-west-rodders-breakfast/2021-02-21/
LOCATION:Columbus Coffee Mitre 10 Westgate\, Northside Drive\, Westgate\, Auckland\, 0618\, New Zealand
CATEGORIES:Car Show
END:VEVENT
BEGIN:VEVENT
DTSTART;TZID=Pacific/Auckland:20210117T083000
DTEND;TZID=Pacific/Auckland:20210117T103000
DTSTAMP:20260420T120236
CREATED:20191212T064631Z
LAST-MODIFIED:20191212T064631Z
UID:10002069-1610872200-1610879400@carculture.nz
SUMMARY:Mid West Rodders Breakfast
DESCRIPTION:Mid West Rodders present \nRodders Breakfast\nBring along your hot rod\, street machine\, muscle car\, or American classic.  Check out the other rides and enjoy a breakfast of hot coffee
URL:https://carculture.nz/event/mid-west-rodders-breakfast/2021-01-17/
LOCATION:Columbus Coffee Mitre 10 Westgate\, Northside Drive\, Westgate\, Auckland\, 0618\, New Zealand
CATEGORIES:Car Show
END:VEVENT
BEGIN:VEVENT
DTSTART;TZID=Pacific/Auckland:20201220T083000
DTEND;TZID=Pacific/Auckland:20201220T103000
DTSTAMP:20260420T120236
CREATED:20191212T064631Z
LAST-MODIFIED:20191212T064631Z
UID:10002068-1608453000-1608460200@carculture.nz
SUMMARY:Mid West Rodders Breakfast
DESCRIPTION:Mid West Rodders present \nRodders Breakfast\nBring along your hot rod\, street machine\, muscle car\, or American classic.  Check out the other rides and enjoy a breakfast of hot coffee
URL:https://carculture.nz/event/mid-west-rodders-breakfast/2020-12-20/
LOCATION:Columbus Coffee Mitre 10 Westgate\, Northside Drive\, Westgate\, Auckland\, 0618\, New Zealand
CATEGORIES:Car Show
END:VEVENT
BEGIN:VEVENT
DTSTART;TZID=Pacific/Auckland:20201115T083000
DTEND;TZID=Pacific/Auckland:20201115T103000
DTSTAMP:20260420T120236
CREATED:20191212T064631Z
LAST-MODIFIED:20191212T064631Z
UID:10002067-1605429000-1605436200@carculture.nz
SUMMARY:Mid West Rodders Breakfast
DESCRIPTION:Mid West Rodders present \nRodders Breakfast\nBring along your hot rod\, street machine\, muscle car\, or American classic.  Check out the other rides and enjoy a breakfast of hot coffee
URL:https://carculture.nz/event/mid-west-rodders-breakfast/2020-11-15/
LOCATION:Columbus Coffee Mitre 10 Westgate\, Northside Drive\, Westgate\, Auckland\, 0618\, New Zealand
CATEGORIES:Car Show
END:VEVENT
BEGIN:VEVENT
DTSTART;TZID=Pacific/Auckland:20201018T083000
DTEND;TZID=Pacific/Auckland:20201018T103000
DTSTAMP:20260420T120236
CREATED:20191212T064631Z
LAST-MODIFIED:20191212T064631Z
UID:10002066-1603009800-1603017000@carculture.nz
SUMMARY:Mid West Rodders Breakfast
DESCRIPTION:Mid West Rodders present \nRodders Breakfast\nBring along your hot rod\, street machine\, muscle car\, or American classic.  Check out the other rides and enjoy a breakfast of hot coffee
URL:https://carculture.nz/event/mid-west-rodders-breakfast/2020-10-18/
LOCATION:Columbus Coffee Mitre 10 Westgate\, Northside Drive\, Westgate\, Auckland\, 0618\, New Zealand
CATEGORIES:Car Show
END:VEVENT
BEGIN:VEVENT
DTSTART;TZID=Pacific/Auckland:20200920T083000
DTEND;TZID=Pacific/Auckland:20200920T103000
DTSTAMP:20260420T120236
CREATED:20191212T064631Z
LAST-MODIFIED:20191212T064631Z
UID:10002065-1600590600-1600597800@carculture.nz
SUMMARY:Mid West Rodders Breakfast
DESCRIPTION:Mid West Rodders present \nRodders Breakfast\nBring along your hot rod\, street machine\, muscle car\, or American classic.  Check out the other rides and enjoy a breakfast of hot coffee
URL:https://carculture.nz/event/mid-west-rodders-breakfast/2020-09-20/
LOCATION:Columbus Coffee Mitre 10 Westgate\, Northside Drive\, Westgate\, Auckland\, 0618\, New Zealand
CATEGORIES:Car Show
END:VEVENT
BEGIN:VEVENT
DTSTART;TZID=Pacific/Auckland:20200816T083000
DTEND;TZID=Pacific/Auckland:20200816T103000
DTSTAMP:20260420T120236
CREATED:20191212T064631Z
LAST-MODIFIED:20191212T064631Z
UID:10002064-1597566600-1597573800@carculture.nz
SUMMARY:Mid West Rodders Breakfast
DESCRIPTION:Mid West Rodders present \nRodders Breakfast\nBring along your hot rod\, street machine\, muscle car\, or American classic.  Check out the other rides and enjoy a breakfast of hot coffee
URL:https://carculture.nz/event/mid-west-rodders-breakfast/2020-08-16/
LOCATION:Columbus Coffee Mitre 10 Westgate\, Northside Drive\, Westgate\, Auckland\, 0618\, New Zealand
CATEGORIES:Car Show
END:VEVENT
BEGIN:VEVENT
DTSTART;TZID=Pacific/Auckland:20200719T083000
DTEND;TZID=Pacific/Auckland:20200719T103000
DTSTAMP:20260420T120236
CREATED:20191212T064631Z
LAST-MODIFIED:20191212T064631Z
UID:10002063-1595147400-1595154600@carculture.nz
SUMMARY:Mid West Rodders Breakfast
DESCRIPTION:Mid West Rodders present \nRodders Breakfast\nBring along your hot rod\, street machine\, muscle car\, or American classic.  Check out the other rides and enjoy a breakfast of hot coffee
URL:https://carculture.nz/event/mid-west-rodders-breakfast/2020-07-19/
LOCATION:Columbus Coffee Mitre 10 Westgate\, Northside Drive\, Westgate\, Auckland\, 0618\, New Zealand
CATEGORIES:Car Show
END:VEVENT
BEGIN:VEVENT
DTSTART;TZID=Pacific/Auckland:20200621T083000
DTEND;TZID=Pacific/Auckland:20200621T103000
DTSTAMP:20260420T120236
CREATED:20191212T064631Z
LAST-MODIFIED:20191212T064631Z
UID:10002062-1592728200-1592735400@carculture.nz
SUMMARY:Mid West Rodders Breakfast
DESCRIPTION:Mid West Rodders present \nRodders Breakfast\nBring along your hot rod\, street machine\, muscle car\, or American classic.  Check out the other rides and enjoy a breakfast of hot coffee
URL:https://carculture.nz/event/mid-west-rodders-breakfast/2020-06-21/
LOCATION:Columbus Coffee Mitre 10 Westgate\, Northside Drive\, Westgate\, Auckland\, 0618\, New Zealand
CATEGORIES:Car Show
END:VEVENT
BEGIN:VEVENT
DTSTART;TZID=Pacific/Auckland:20200517T083000
DTEND;TZID=Pacific/Auckland:20200517T103000
DTSTAMP:20260420T120236
CREATED:20191212T064631Z
LAST-MODIFIED:20191212T064631Z
UID:10002061-1589704200-1589711400@carculture.nz
SUMMARY:Mid West Rodders Breakfast
DESCRIPTION:Mid West Rodders present \nRodders Breakfast\nBring along your hot rod\, street machine\, muscle car\, or American classic.  Check out the other rides and enjoy a breakfast of hot coffee
URL:https://carculture.nz/event/mid-west-rodders-breakfast/2020-05-17/
LOCATION:Columbus Coffee Mitre 10 Westgate\, Northside Drive\, Westgate\, Auckland\, 0618\, New Zealand
CATEGORIES:Car Show
END:VEVENT
END:VCALENDAR